﻿BEGIN:VCALENDAR
VERSION:2.0
PRODID:-//Ensemble Orchestral d&#039;AUCH - ECPv6.15.20//NONSGML v1.0//EN
CALSCALE:GREGORIAN
METHOD:PUBLISH
X-ORIGINAL-URL:https://eoauch.fr
X-WR-CALDESC:Évènements pour Ensemble Orchestral d&#039;AUCH
REFRESH-INTERVAL;VALUE=DURATION:PT1H
X-Robots-Tag:noindex
X-PUBLISHED-TTL:PT1H
BEGIN:VTIMEZONE
TZID:Europe/Paris
BEGIN:DAYLIGHT
TZOFFSETFROM:+0100
TZOFFSETTO:+0200
TZNAME:CEST
DTSTART:20250330T010000
END:DAYLIGHT
BEGIN:STANDARD
TZOFFSETFROM:+0200
TZOFFSETTO:+0100
TZNAME:CET
DTSTART:20251026T010000
END:STANDARD
BEGIN:DAYLIGHT
TZOFFSETFROM:+0100
TZOFFSETTO:+0200
TZNAME:CEST
DTSTART:20260329T010000
END:DAYLIGHT
BEGIN:STANDARD
TZOFFSETFROM:+0200
TZOFFSETTO:+0100
TZNAME:CET
DTSTART:20261025T010000
END:STANDARD
BEGIN:DAYLIGHT
TZOFFSETFROM:+0100
TZOFFSETTO:+0200
TZNAME:CEST
DTSTART:20270328T010000
END:DAYLIGHT
BEGIN:STANDARD
TZOFFSETFROM:+0200
TZOFFSETTO:+0100
TZNAME:CET
DTSTART:20271031T010000
END:STANDARD
END:VTIMEZONE
BEGIN:VEVENT
DTSTART;TZID=Europe/Paris:20260313T203000
DTEND;TZID=Europe/Paris:20260313T230000
DTSTAMP:20260421T160344
CREATED:20260224T095213Z
LAST-MODIFIED:20260224T095213Z
UID:700-1773433800-1773442800@eoauch.fr
SUMMARY:Reprise des répétitions
DESCRIPTION:
URL:https://eoauch.fr/event/reprise-des-repetitions-5/
LOCATION:Ecole Municipale de Musique d’AUCH\, 42 Ter\, boulevard Sadi-Carnot\, AUCH\, Occitanie\, 32000\, France
CATEGORIES:Répétitions
END:VEVENT
END:VCALENDAR